BEGIN:VCALENDAR
VERSION:2.0
PRODID:Imitheme.com 
BEGIN:VEVENT
UID:20260421T190525502013263
DTSTAMP;TZID=UTC:2026-04-21 19:05:25
DTSTART;TZID=America/Los_Angeles:20260421T190525
DTEND;TZID=America/Los_Angeles:20260421T190525
SUMMARY:V Webinar di formazione per i Climate Leaders
LOCATION:
DESCRIPTION:Aree tematiche del Green Deal Europeo, del Patto Europeo per il Clima e gli obiettivi dell’Agenda 2030
URL:https://www.lifeclimaction.eu/Events/v-webinar-di-formazione-per-i-climate-leaders/
END:VEVENT
END:VCALENDAR
