BEGIN:VCALENDAR
VERSION:2.0
PRODID:Imitheme.com 
BEGIN:VEVENT
UID:20260421T1906371358113514
DTSTAMP;TZID=UTC:2026-04-21 19:06:37
DTSTART;TZID=America/Los_Angeles:20260421T190637
DTEND;TZID=America/Los_Angeles:20260421T190637
SUMMARY:Green job & Orienta - webinar
LOCATION:
DESCRIPTION:27 / 28 / 29 GIUGNO 2022 DALLE 18.30 alle 19.30 Segui i 3 webinar per orientare i giovani verso le nuove professioni verdi collegate in particolare al settore delle energie rinnovabili e delle reti intelligenti e avvicinarli al mondo della green economy.   27 GIUGNO Ore 18:30 - 19.30  GREENJOBS&ORIENTA: ENERGIA Letizia Palmisano - Greenfactor, Katiuscia Eroe - Ufficio Energia Legambiente , Renata Zuffi - Assessore Comune di Lecco    28 GIUGNO Ore 18.30 - 19.30  GREENJOBS&ORIENTA: GENERARE LAVORO Investimenti per la generazione di posizione lavorative: i distretti a disoccupazione zero - Prof. Andrea Ciarini, Francesco Gentili - Forum Terzo settore “Cantieri Viceversa”   29 GIUGNO 18.30 - 19.30 GREENJOBS&ORIENTA: ECONOMIA CIRCOLARE Green Jobs nell’Economia Circolare, uno studio europeo sugli youth worker, il progetto CESCY con Silvia Volpi e Stefania Zamparelli di REDU - Rete educare ai diritti umani e con Marco Gisotti - Giornalista ambientale, Influencer, Social Media manager    ON AIR DAL POLITECNICO DI MILANO, SEDE LECCO DURANTE L’INIZIATIVA SUMMERSCHOOL “SOLUZIONI CIVILI” - Segui le dirette sulla pagina Facebook di ClimAction Per info economia civile@legambiente.it
URL:https://www.lifeclimaction.eu/Events/green-job-orienta-webinar/
END:VEVENT
END:VCALENDAR
