BEGIN:VCALENDAR
VERSION:2.0
PRODID:Imitheme.com 
BEGIN:VEVENT
UID:20260421T17272969118238
DTSTAMP;TZID=UTC:2026-04-21 17:27:29
DTSTART;TZID=America/Los_Angeles:20260421T172729
DTEND;TZID=America/Los_Angeles:20260421T172729
SUMMARY:Life ClimAction sale a bordo di Goletta Verde per la Carovana per il clima
LOCATION:
DESCRIPTION:⛵️Il progetto #lifeclimaction sale a bordo di @golettaverde lo storico veliero ambientalista che ogni anno prende il mare per tutelare e salvaguardare le sue acque e le coste. 📌Appuntamento giovedì 7 luglio dalle ore 19 alle 21 al porto di #Fiumicino per l’aperitivo scientifico per sensibilizzare cittadini, amministrazioni e imprese sugli effetti dei cambiamenti climatici. ✅ Incontro dell\'equipaggio di Goletta Verde, Legambiente Lazio, il circolo di Legambiente Fiumicino insieme al Vicesindaco di Fiumicino Ezio di Genesio Pagliuca e al responsabile scientifico di Legambiente Lazio e il ricercatore ISPRA Nicola Riitano. 🎶 Intervento musicale di Prototipi Di Scartus, un progetto che si propone di esplorare le infinite possibilità sonore di oggetti e materiali di uso comune e da riuso per sperimentarle e trasformarle in strumenti musicali, creando un repertorio musicale con testi che attingono alle sonorità del mondo e le “riutilizza” assemblandole in un nuovo linguaggio comunicativo. Dopo Arrone (TR) e Bari, questa è la terza tappa della Carovana per il Clima.  
URL:https://www.lifeclimaction.eu/Events/life-climaction-sale-a-bordo-di-goletta-verde/
END:VEVENT
END:VCALENDAR
