BEGIN:VCALENDAR
VERSION:2.0
PRODID:Imitheme.com 
BEGIN:VEVENT
UID:20260420T10383357361907
DTSTAMP;TZID=UTC:2026-04-20 10:38:33
DTSTART;TZID=America/Los_Angeles:20260420T103833
DTEND;TZID=America/Los_Angeles:20260420T103833
SUMMARY:Continua il viaggio di Life ClimAction a bordo di Goletta Verde
LOCATION:
DESCRIPTION:Porto Garibaldi è la settima tappa della Carovana per il Clima che continua il suo viaggio a bordo di Goletta Verde. Appuntamento sabato 6 agosto a partire dalle ore 17:00 a bordo del veliero ambientalista dove è in programma la presentazione del libro \"Quando qui sarà tornato il mare - storie del clima che ci attende\" edizioni Alegre. A cura del Circolo Legambiente Delta del Po. A seguire aperitivo scientifico per affrontare i temi dell\'emergenza climatica.
URL:https://www.lifeclimaction.eu/Events/continua-il-viaggio-di-life-climaction-a-bordo-di-goletta-verde/
END:VEVENT
END:VCALENDAR
