BEGIN:VCALENDAR
VERSION:2.0
PRODID:Imitheme.com 
BEGIN:VEVENT
UID:20260421T1853281299277274
DTSTAMP;TZID=UTC:2026-04-21 18:53:28
DTSTART;TZID=America/Los_Angeles:20260421T185328
DTEND;TZID=America/Los_Angeles:20260421T185328
SUMMARY:Carovana per il Clima - 10° tappa
LOCATION:
DESCRIPTION:Il Ghiacciaio Occidentale del Monviso è la decima tappa della Carovana per il Clima. Due appuntamenti per ricordare l\'importanza di questi ambienti e constatare la difficoltà in cui versano.
URL:https://www.lifeclimaction.eu/Events/carovana-per-il-clima-10-tappa/
END:VEVENT
END:VCALENDAR
