BEGIN:VCALENDAR
VERSION:2.0
PRODID:Imitheme.com 
BEGIN:VEVENT
UID:20260421T1729581897811408
DTSTAMP;TZID=UTC:2026-04-21 17:29:58
DTSTART;TZID=America/Los_Angeles:20260421T172958
DTEND;TZID=America/Los_Angeles:20260421T172958
SUMMARY:Climathon - l'evento a cui non avremmo mai voluto invitarti
LOCATION:
DESCRIPTION:Climathon - Experience Climate Crisis: l\'evento catastrofico a cui non avremmo mai voluto invitarti è in programma per giovedì 18 ottobre a partire dalle ore 10:00. L\'iniziativa è rivolta alle imprese che vogliono affrontare il tema dei cambiamenti climatici. Iscriviti qui subito, i posti sono limitati! Per qualche info in più sulla giornata e sul programma > Brochure Climathon  
URL:https://www.lifeclimaction.eu/Events/climathon-levento-a-cui-non-avremmo-mai-voluto-invitarti/
END:VEVENT
END:VCALENDAR
