BEGIN:VCALENDAR
VERSION:2.0
PRODID:Imitheme.com 
BEGIN:VEVENT
UID:20260421T190147694238346
DTSTAMP;TZID=UTC:2026-04-21 19:01:47
DTSTART;TZID=America/Los_Angeles:20260421T190147
DTEND;TZID=America/Los_Angeles:20260421T190147
SUMMARY:Riscaldarsi ai tempi della crisi climatica
LOCATION:
DESCRIPTION:Appuntamento giovedì 13 ottobre alle ore 18:30 sulla pagina facebook di Legambiente Veneto con l\'Info Day dedicato ai temi della crisi energetica e delle possibili soluzioni per affrontare il prossimo inverno che sarà caratterizzato da instabilità geopolitica e dal mancato raggiungimento dell\'indipendenza energetica del nostro Paese.
URL:https://www.lifeclimaction.eu/Events/riscaldarsi-ai-tempi-della-crisi-climatica/
END:VEVENT
END:VCALENDAR
