BEGIN:VCALENDAR
VERSION:2.0
PRODID:Imitheme.com 
BEGIN:VEVENT
UID:20260421T1548371868987663
DTSTAMP;TZID=UTC:2026-04-21 15:48:37
DTSTART;TZID=America/Los_Angeles:20260421T154837
DTEND;TZID=America/Los_Angeles:20260421T154837
SUMMARY:Ecoforum Emilia Romagna a Ecomondo
LOCATION:
DESCRIPTION:Giunge alla XV edizione l\'Ecoforum Emilia Romagna, il consolidato appuntamento per fare il punto sul tema della corretta gestione dei rifiuti e dell\'economia circolare. Questa edizione è in programma il 10 novembre a Rimini, all\'interno di Ecomondo nella Piazza delle Pubbliche Amministrazioni PAD. 7 dalle ore 9:30 alle 12:30  
URL:https://www.lifeclimaction.eu/Events/ecoforum-emilia-romagna-a-ecomondo/
END:VEVENT
END:VCALENDAR
