BEGIN:VCALENDAR
VERSION:2.0
PRODID:Imitheme.com 
BEGIN:VEVENT
UID:20260421T1727331604511652
DTSTAMP;TZID=UTC:2026-04-21 17:27:33
DTSTART;TZID=America/Los_Angeles:20260421T172733
DTEND;TZID=America/Los_Angeles:20260421T172733
SUMMARY:Life ClimAction sbarca in Sardegna a sostegno del solare
LOCATION:
DESCRIPTION:Il progetto Life ClimAction sbarca in Sardegna, continuano gli incontri dedicati al ruolo del solare nella transizione energetica. Appuntamento martedì 22 novembre alle ore 15:00 presso la Facoltà di ingegneria e Architettura a Cagliari.
URL:https://www.lifeclimaction.eu/Events/7131/
END:VEVENT
END:VCALENDAR
