BEGIN:VCALENDAR
VERSION:2.0
PRODID:Imitheme.com 
BEGIN:VEVENT
UID:20260421T135229350777399
DTSTAMP;TZID=UTC:2026-04-21 13:52:29
DTSTART;TZID=America/Los_Angeles:20260421T135229
DTEND;TZID=America/Los_Angeles:20260421T135229
SUMMARY:1° ClimAction Days rivolto agli amminsitratori locali - La risorsa idrica
LOCATION:
DESCRIPTION:Al via il 15 dicembre prossimo il ciclo di incontri dedicato agli amministratori locali per contrastare i cambiamenti climatici; gli incontri si svolgeranno on line sulla piattaforma zoom dalle ore 10:00 alle ore 12:00. Il tema del primo incontro è la risorsa idrica. Per consultare l\'elenco completo degli incontri visualizza il programma Iscrizioni a questo LINK
URL:https://www.lifeclimaction.eu/Events/1-climaction-days-rivolto-agli-amminsitratori-locali-la-risorsa-idrica/
END:VEVENT
END:VCALENDAR
