BEGIN:VCALENDAR
VERSION:2.0
PRODID:Imitheme.com 
BEGIN:VEVENT
UID:20260421T135400894439140
DTSTAMP;TZID=UTC:2026-04-21 13:54:00
DTSTART;TZID=America/Los_Angeles:20260421T135400
DTEND;TZID=America/Los_Angeles:20260421T135400
SUMMARY:Ecoforum Abruzzo
LOCATION:
DESCRIPTION:Il progetto Life ClimAction fa tappa anche all\'Ecoforum Abruzzo. L\'incontro è in programma il 19 dicembre 2022 a partire dalla ore 10:00 presso il Polo Museale Santo Spirito di Lanciano.    
URL:https://www.lifeclimaction.eu/Events/ecoforum-abruzzo/
END:VEVENT
END:VCALENDAR
