BEGIN:VCALENDAR
VERSION:2.0
PRODID:Imitheme.com 
BEGIN:VEVENT
UID:20260420T1040221619120966
DTSTAMP;TZID=UTC:2026-04-20 10:40:22
DTSTART;TZID=America/Los_Angeles:20260420T104022
DTEND;TZID=America/Los_Angeles:20260420T104022
SUMMARY:Info Day dello sportello energia di Legambiente Veneto
LOCATION:
DESCRIPTION:Verso le comunità energetiche rinnovabili è il tema del prossimo Info Day in programma per venerdì 12 maggio 2023 a partire dalle ore 20:45 presso la Sala Civico Municipio di Ospedaletto Euganeo (PD).  
URL:https://www.lifeclimaction.eu/Events/info-day-dello-sportello-energia-di-legambiente-veneto/
END:VEVENT
END:VCALENDAR
