BEGIN:VCALENDAR
VERSION:2.0
PRODID:Imitheme.com 
BEGIN:VEVENT
UID:20260421T1350351748077571
DTSTAMP;TZID=UTC:2026-04-21 13:50:35
DTSTART;TZID=America/Los_Angeles:20260421T135035
DTEND;TZID=America/Los_Angeles:20260421T135035
SUMMARY:Climate blitz a Piombino
LOCATION:
DESCRIPTION:C\'è puzza di gas a Piombino e i volontari di Legambiente si uniranno alla comunità locale per chiedere un nuovo modello energetico decentrato, pulito e partecipato. Appuntamento venerdì 3 febbraio alle ore 15:00 in Piazza Bovio a Piombino
URL:https://www.lifeclimaction.eu/Events/climate-blitz-a-piombino/
END:VEVENT
END:VCALENDAR
