BEGIN:VCALENDAR
VERSION:2.0
PRODID:Imitheme.com 
BEGIN:VEVENT
UID:20260421T1533041927492561
DTSTAMP;TZID=UTC:2026-04-21 15:33:04
DTSTART;TZID=America/Los_Angeles:20260421T153304
DTEND;TZID=America/Los_Angeles:20260421T153304
SUMMARY:3° ClimAction Day - Energia e Comunità Energetiche
LOCATION:
DESCRIPTION:Giunge al terzo incontro la campagna di informazione dedicata agli amministratori locali. Tema del prossimo incontro è l\'energia e le comunità energetiche. Per partecipare è necessario iscriversi attraverso il qr code presente in locandina oppure cliccando QUI  
URL:https://www.lifeclimaction.eu/Events/climaction-day-su-energia-e-comunita-energetiche/
END:VEVENT
END:VCALENDAR
