BEGIN:VCALENDAR
VERSION:2.0
PRODID:Imitheme.com 
BEGIN:VEVENT
UID:20260421T1342551774514132
DTSTAMP;TZID=UTC:2026-04-21 13:42:55
DTSTART;TZID=America/Los_Angeles:20260421T134255
DTEND;TZID=America/Los_Angeles:20260421T134255
SUMMARY:Ecoforum Sardegna, i cantieri di economia circolare
LOCATION:
DESCRIPTION:Continua il tour del progetto Life ClimAction tra gli ecoforum promossi da Legambiente. Prossimo appuntamento il 10 febbraio a Cagliari, dalle ore 9:30 alle 13:00.
URL:https://www.lifeclimaction.eu/Events/ecoforum-sardegna-i-cantieri-di-economia-circolare/
END:VEVENT
END:VCALENDAR
