BEGIN:VCALENDAR
VERSION:2.0
PRODID:Imitheme.com 
BEGIN:VEVENT
UID:20260421T1346581220929470
DTSTAMP;TZID=UTC:2026-04-21 13:46:58
DTSTART;TZID=America/Los_Angeles:20260421T134658
DTEND;TZID=America/Los_Angeles:20260421T134658
SUMMARY:Ciclo di seminari per gli studenti dell'Università di Cagliari
LOCATION:
DESCRIPTION:Legambiente Sardegna organizza un ciclo di seminari  dedicato agli studenti e studentesse dell\'Università di Cagliari dal titolo \"La sostenibilità come strada verso un futuro a zero emissioni\". L\'obiettivo è accrescere la sensibilità verso le tematiche ambientali e la necessità della transazione ecologica. Scarica il programma degli incontri Scarica il programma del primo appuntamento dedicato al tema dell\'energia tra passato, presente e futuro Scarica il programma del secondo appuntamento dedicato al tema della mobilità sostenibile e inclusiva in Sardegna Scarica il programma del terzo appuntamento dedicato alla pianificazione territoriale e paesaggistica Scarica il programma del quarto appuntamento dedicato all\'economia circolare e al ciclo dei rifiuti Scarica il programma del quinto appuntamento dedicato agli effetti dei cambiamenti climatici
URL:https://www.lifeclimaction.eu/Events/ciclo-di-seminari-per-gli-studenti-delluniversita-di-cagliari/
END:VEVENT
END:VCALENDAR
