BEGIN:VCALENDAR
VERSION:2.0
PRODID:Imitheme.com 
BEGIN:VEVENT
UID:20260421T0903301297447839
DTSTAMP;TZID=UTC:2026-04-21 09:03:30
DTSTART;TZID=America/Los_Angeles:20260421T090330
DTEND;TZID=America/Los_Angeles:20260421T090330
SUMMARY:5° ClimAction Day - Gestione e riduzione dei rifiuti
LOCATION:
DESCRIPTION:Si svolgerà il prossimo 19 ottobre, in modalità on line, dalle ore 10:00 alle ore 12:00 l\'ultimo appuntamento dedicato agli amministratori comunali per trasferire buone pratiche per contrastare la crisi climatici. GEstione e riduzione dei rifiuti sarà il tema dell\'ultimo incontro a cui è ancora possibile iscriversi a questo link   
URL:https://www.lifeclimaction.eu/Events/5-climaction-day-gestione-e-riduzione-dei-rifiuti/
END:VEVENT
END:VCALENDAR
